BEGIN:VCALENDAR
VERSION:2.0
PRODID:-//Haldimand Photography Club - ECPv6.15.20//NONSGML v1.0//EN
CALSCALE:GREGORIAN
METHOD:PUBLISH
X-ORIGINAL-URL:https://haldimandphotographyclub.com
X-WR-CALDESC:Events for Haldimand Photography Club
REFRESH-INTERVAL;VALUE=DURATION:PT1H
X-Robots-Tag:noindex
X-PUBLISHED-TTL:PT1H
BEGIN:VTIMEZONE
TZID:America/Toronto
BEGIN:DAYLIGHT
TZOFFSETFROM:-0500
TZOFFSETTO:-0400
TZNAME:EDT
DTSTART:20240310T070000
END:DAYLIGHT
BEGIN:STANDARD
TZOFFSETFROM:-0400
TZOFFSETTO:-0500
TZNAME:EST
DTSTART:20241103T060000
END:STANDARD
BEGIN:DAYLIGHT
TZOFFSETFROM:-0500
TZOFFSETTO:-0400
TZNAME:EDT
DTSTART:20250309T070000
END:DAYLIGHT
BEGIN:STANDARD
TZOFFSETFROM:-0400
TZOFFSETTO:-0500
TZNAME:EST
DTSTART:20251102T060000
END:STANDARD
BEGIN:DAYLIGHT
TZOFFSETFROM:-0500
TZOFFSETTO:-0400
TZNAME:EDT
DTSTART:20260308T070000
END:DAYLIGHT
BEGIN:STANDARD
TZOFFSETFROM:-0400
TZOFFSETTO:-0500
TZNAME:EST
DTSTART:20261101T060000
END:STANDARD
END:VTIMEZONE
BEGIN:VEVENT
DTSTART;TZID=America/Toronto:20250109T183000
DTEND;TZID=America/Toronto:20250109T210000
DTSTAMP:20260420T200459
CREATED:20241224T014335Z
LAST-MODIFIED:20250108T011848Z
UID:3342-1736447400-1736456400@haldimandphotographyclub.com
SUMMARY:Cell Phone Photography with Peter Ferguson
DESCRIPTION:In this era the majority of us are now relying on our phones as a source of memory keeping. From weddings to newborn babies\, graduations\, family and pet photo to travel and everything in between! Learn creative angles to shoot\, how to maximize available light and improve your technique! \nOn this night Peter Ferguson will share Pictorial\, Creative and Nature imagery as well as discuss the pros and cons of using a cell phone for photography. If you have been looking for ways to capture great shots using your phone camera\, join us! \nThis event is no cost to Haldimand Photography Club Members and for Guests the fee is $20. \n \n \n  \n[rtec-registration-form]
URL:https://haldimandphotographyclub.com/event/cell-phone-photography-with-peter-ferguson/
LOCATION:Caledonia Fairgrounds\, 151 Caithness St E\, Caledonia\, Ontario\, N3W 1C2\, Canada
CATEGORIES:Meeting,Special Interest,Workshops
ATTACH;FMTTYPE=image/jpeg:https://haldimandphotographyclub.com/wp-content/uploads/2024/12/trolley-Ver1-scaled.jpg
ORGANIZER;CN="Rhonda Frank":MAILTO:events@haldimandphotographyclub.com
END:VEVENT
END:VCALENDAR