BEGIN:VCALENDAR
VERSION:2.0
PRODID:-//Haldimand Photography Club - ECPv6.15.20//NONSGML v1.0//EN
CALSCALE:GREGORIAN
METHOD:PUBLISH
X-ORIGINAL-URL:https://haldimandphotographyclub.com
X-WR-CALDESC:Events for Haldimand Photography Club
REFRESH-INTERVAL;VALUE=DURATION:PT1H
X-Robots-Tag:noindex
X-PUBLISHED-TTL:PT1H
BEGIN:VTIMEZONE
TZID:America/Toronto
BEGIN:DAYLIGHT
TZOFFSETFROM:-0500
TZOFFSETTO:-0400
TZNAME:EDT
DTSTART:20230312T070000
END:DAYLIGHT
BEGIN:STANDARD
TZOFFSETFROM:-0400
TZOFFSETTO:-0500
TZNAME:EST
DTSTART:20231105T060000
END:STANDARD
BEGIN:DAYLIGHT
TZOFFSETFROM:-0500
TZOFFSETTO:-0400
TZNAME:EDT
DTSTART:20240310T070000
END:DAYLIGHT
BEGIN:STANDARD
TZOFFSETFROM:-0400
TZOFFSETTO:-0500
TZNAME:EST
DTSTART:20241103T060000
END:STANDARD
BEGIN:DAYLIGHT
TZOFFSETFROM:-0500
TZOFFSETTO:-0400
TZNAME:EDT
DTSTART:20250309T070000
END:DAYLIGHT
BEGIN:STANDARD
TZOFFSETFROM:-0400
TZOFFSETTO:-0500
TZNAME:EST
DTSTART:20251102T060000
END:STANDARD
END:VTIMEZONE
BEGIN:VEVENT
DTSTART;TZID=America/Toronto:20241120T183000
DTEND;TZID=America/Toronto:20241120T220000
DTSTAMP:20260421T002122
CREATED:20240305T030030Z
LAST-MODIFIED:20241115T203611Z
UID:1535-1732127400-1732140000@haldimandphotographyclub.com
SUMMARY:Learning to Master Our Digital Cameras - Introduction
DESCRIPTION:The Learning Problem: \n\n\n\nModern digital cameras have been engineered to produce the best images possible with the least amount of input from the photographer. While this approach produces excellent results for snap shooters\, these cameras can present a challenge when a photographer wishes to make the decisions rather than letting the camera do its thing. The photographer is then presented with “the Black Box” problem as the controls they need to use aren’t obvious or readily accessible. \n\n\n\nThe Learning Objective:  \n\n\n\nBy the end of the session\, our club members will have learned how to crack open the Black Box and make use of aperture\, shutter speed\, ISO\, white balance\, exposure compensation\, plus they will have an understanding of how the light meter and auto focus functions. With this understanding they will be able to access and use the functions in the command dial PSAM to full control their cameras. \n\n\n\nOutline: \n\n\n\n\nExamine the Black Box Problem\n\n\n\nThe basics of how a digital camera works – lens\, sensor\, processor\, storage.\n\n\n\nAperture and Shutter Speed – these will be presented via a camera mounted on a tripod and the results from sample shots of the group will be put on the screen so that the members will understand what these controls are\, how they work\, and what they produce. Members will be encouraged to find this functionality on their cameras.\n\n\n\nISO sensitivity\, the basics of signal to noise using samples from the tripod mounted camera. Members will be encouraged to find this functionality on their cameras.\n\n\n\nWhite balance\, colour temperature\, artificial light using samples from the tripod mounted camera. Members will be encouraged to find this functionality on their cameras.\n\n\n\nLight meters and the metering problem using samples from the tripod mounted camera. Members will be encouraged to find this functionality on their cameras.\n\n\n\nExposure Compensation and how we can use it to deal with the metering problem using samples from the tripod mounted camera. Members will be encouraged to find this functionality on their cameras.\n\n\n\nAuto focus modes and how/when to use manual focus. Members will be encouraged to find this functionality on their cameras.\n\n\n\nExercise to try out the PSAM dial\, white balance\, exposure compensation\, and focus modes.\n\n\n\nWrap up.\n\n\n\n\nDon’t forget to bring your camera as this is a hands on course. You will practice what you learn during this course! Also note that this course has all new material so for anyone who took the original course and feels like they need a refresher\, this will be new to them. \n\n\n\nPlease note that the workshop is free for our members and a cost of $20.00 for Non-Members.  Non-members attending this workshop must e-transfer the money to treasurer@haldimandphotographyclub.com and add Learning to Master Our Digital Camera in the comment section.If a Non-members decides to join then we will reduce the membership fee by $20.00
URL:https://haldimandphotographyclub.com/event/introduction-to-basic-dslr-course/
LOCATION:Ontario
CATEGORIES:Workshops
ATTACH;FMTTYPE=image/jpeg:https://haldimandphotographyclub.com/wp-content/uploads/2024/03/FB-Pictures-9.jpg
ORGANIZER;CN="Tony Maddalena":MAILTO:president@haldimandphotographyclub.com
END:VEVENT
END:VCALENDAR