BEGIN:VCALENDAR
VERSION:2.0
PRODID:-//Haldimand Photography Club - ECPv6.15.20//NONSGML v1.0//EN
CALSCALE:GREGORIAN
METHOD:PUBLISH
X-WR-CALNAME:Haldimand Photography Club
X-ORIGINAL-URL:https://haldimandphotographyclub.com
X-WR-CALDESC:Events for Haldimand Photography Club
REFRESH-INTERVAL;VALUE=DURATION:PT1H
X-Robots-Tag:noindex
X-PUBLISHED-TTL:PT1H
BEGIN:VTIMEZONE
TZID:America/Toronto
BEGIN:DAYLIGHT
TZOFFSETFROM:-0500
TZOFFSETTO:-0400
TZNAME:EDT
DTSTART:20240310T070000
END:DAYLIGHT
BEGIN:STANDARD
TZOFFSETFROM:-0400
TZOFFSETTO:-0500
TZNAME:EST
DTSTART:20241103T060000
END:STANDARD
BEGIN:DAYLIGHT
TZOFFSETFROM:-0500
TZOFFSETTO:-0400
TZNAME:EDT
DTSTART:20250309T070000
END:DAYLIGHT
BEGIN:STANDARD
TZOFFSETFROM:-0400
TZOFFSETTO:-0500
TZNAME:EST
DTSTART:20251102T060000
END:STANDARD
BEGIN:DAYLIGHT
TZOFFSETFROM:-0500
TZOFFSETTO:-0400
TZNAME:EDT
DTSTART:20260308T070000
END:DAYLIGHT
BEGIN:STANDARD
TZOFFSETFROM:-0400
TZOFFSETTO:-0500
TZNAME:EST
DTSTART:20261101T060000
END:STANDARD
BEGIN:DAYLIGHT
TZOFFSETFROM:-0500
TZOFFSETTO:-0400
TZNAME:EDT
DTSTART:20270314T070000
END:DAYLIGHT
BEGIN:STANDARD
TZOFFSETFROM:-0400
TZOFFSETTO:-0500
TZNAME:EST
DTSTART:20271107T060000
END:STANDARD
END:VTIMEZONE
BEGIN:VEVENT
DTSTART;TZID=America/Toronto:20251013T100000
DTEND;TZID=America/Toronto:20251013T160000
DTSTAMP:20260424T074543
CREATED:20251004T211847Z
LAST-MODIFIED:20251004T211847Z
UID:6512-1760349600-1760371200@haldimandphotographyclub.com
SUMMARY:Ruthven Park’s 27th Annual Cars in the Park
DESCRIPTION:Photo Oppourtunity Event \n*This is a public event\, see if one of your camera buddies may want to go with you!\n*Please note that any admission costs should be paid to the event directly \nAdmission $10 per car. \nRev up your engines and cruise on over to the most anticipated car show of the year! Whether you’re a car enthusiast\, a collector\, or just someone who appreciates the beauty of finely crafted automobiles\, this event is for you. It’s a celebration of automotive history that you won’t want to miss! \nDash Plaques for First 100 Cars\, Alfie’s Lemonade\, Concession Stand\, Door Prizes\, Historic House Tours\, Cemetery Tours & Children’s Activities! \nPlease note: This is a rain-or-shine event. In the case of severe weather\, Ruthven Park reserves the right to alter or cancel the event at the organizations discretion.
URL:https://haldimandphotographyclub.com/event/ruthven-parks-27th-annual-cars-in-the-park/
LOCATION:Ruthven Park National Historic Site\, 243 Haldimand County Highway 54\, Cayuga\, ON\, N0A 1E0\, Canada
CATEGORIES:Special Interest
ATTACH;FMTTYPE=image/webp:https://haldimandphotographyclub.com/wp-content/uploads/2025/10/iStock-1268369774.jpg.webp
END:VEVENT
BEGIN:VEVENT
DTSTART;TZID=America/Toronto:20251016T173000
DTEND;TZID=America/Toronto:20251026T220000
DTSTAMP:20260424T074543
CREATED:20251007T121231Z
LAST-MODIFIED:20251007T192803Z
UID:6527-1760635800-1761516000@haldimandphotographyclub.com
SUMMARY:The Great Pumpkin Trail
DESCRIPTION:Photo Oppourtunity Event \n*This is a public event\, see if one of your camera buddies may want to go with you!\n*Advance tickets are required\n*Please note that any admission costs should be paid to the event directly \nThe Great Pumpkin Trail returns to RBG! Follow the candlelit glow of hundreds of jack-o-lanterns deep within the recesses of the Hendrie Valley. Savor the flavors of the season with a selection of sweet and savory delights while enjoying live entertainment and pumpkin themed activities. New this fall\, 10\,000 REAL pumpkins will be arranged in artistic displays and installations throughout Hendrie Park! \n  \nPre-Purchased Tickets Required.
URL:https://haldimandphotographyclub.com/event/great-pumpkin-trail/
LOCATION:Royal Botanical Gardens\, Burlington\, ON\, L7T 4H4\, Canada
CATEGORIES:Special Interest
ATTACH;FMTTYPE=image/png:https://haldimandphotographyclub.com/wp-content/uploads/2025/10/Screenshot-2025-10-07-at-8.08.08-AM.png
END:VEVENT
BEGIN:VEVENT
DTSTART;TZID=America/Toronto:20251212T100000
DTEND;TZID=America/Toronto:20251213T150000
DTSTAMP:20260424T074543
CREATED:20251124T202503Z
LAST-MODIFIED:20251124T202641Z
UID:6828-1765533600-1765638000@haldimandphotographyclub.com
SUMMARY:Bell Arte Camera Trade in & Buying Event
DESCRIPTION:
URL:https://haldimandphotographyclub.com/event/bell-arte/
LOCATION:Bell Arte\, 85 Ottawa St N\, Hamilton\, ON\, L8H3Y9\, Canada
CATEGORIES:Special Interest
ATTACH;FMTTYPE=image/jpeg:https://haldimandphotographyclub.com/wp-content/uploads/2025/11/IMG_8872-copy-scaled.jpeg
ORGANIZER;CN="Randy Carter":MAILTO:publications@haldimandphotographyclub.com
END:VEVENT
BEGIN:VEVENT
DTSTART;VALUE=DATE:20260223
DTEND;VALUE=DATE:20260228
DTSTAMP:20260424T074543
CREATED:20260121T144533Z
LAST-MODIFIED:20260121T150508Z
UID:7146-1771804800-1772236799@haldimandphotographyclub.com
SUMMARY:The Photoshop Virtual Summit
DESCRIPTION:Expert Instructors Teaching 45 Photoshop Classes\nFor Beginners\n February 23 – 27\, 2026\n  \nFind all the details and register here\nFor five days\, you’ll learn from 16 of the world’s top Photoshop educators—a dream team of best-selling authors\, Adobe MAX Masters\, Adobe Certified Instructors\, and Photoshop Hall of Famers. \nEach carefully planned introductory-level class brings you expert-led sessions designed to simplify Photoshop\, demystify tools\, and help you build the confidence to create with ease. \nThis isn’t theory or fluff—our instructors will be delivering practical\, real-world techniques you can start using immediately in your own projects. \nAnd the best part? There are two ways to join in: \n\n\nFree Pass – Try before you buy with limited time access. \n\n\nVIP Pass – Get lifetime access\, plus exclusive bonuses for just $99 during our Early Bird Sale. \n\n\nThe Photoshop Virtual Summit series has become the online learning event for Photoshop users around the world—and this one is sure to become the resource that you will refer to again and again. \nDon’t miss this opportunity to learn the fundamentals of Photoshop. By the end of the summit\, you’ll build a solid foundation in Photoshop\, develop good habits from day one\, and gain the confidence to keep learning beyond the event.
URL:https://haldimandphotographyclub.com/event/virtual-summit/
CATEGORIES:Special Interest
ATTACH;FMTTYPE=image/png:https://haldimandphotographyclub.com/wp-content/uploads/2026/01/dark-logo-fvs.png
ORGANIZER;CN="Gail MacLellan":MAILTO:events@haldimandphotographyclub.com
END:VEVENT
END:VCALENDAR