BEGIN:VCALENDAR
VERSION:2.0
PRODID:-//Haldimand Photography Club - ECPv6.15.20//NONSGML v1.0//EN
CALSCALE:GREGORIAN
METHOD:PUBLISH
X-ORIGINAL-URL:https://haldimandphotographyclub.com
X-WR-CALDESC:Events for Haldimand Photography Club
REFRESH-INTERVAL;VALUE=DURATION:PT1H
X-Robots-Tag:noindex
X-PUBLISHED-TTL:PT1H
BEGIN:VTIMEZONE
TZID:America/Toronto
BEGIN:DAYLIGHT
TZOFFSETFROM:-0500
TZOFFSETTO:-0400
TZNAME:EDT
DTSTART:20230312T070000
END:DAYLIGHT
BEGIN:STANDARD
TZOFFSETFROM:-0400
TZOFFSETTO:-0500
TZNAME:EST
DTSTART:20231105T060000
END:STANDARD
BEGIN:DAYLIGHT
TZOFFSETFROM:-0500
TZOFFSETTO:-0400
TZNAME:EDT
DTSTART:20240310T070000
END:DAYLIGHT
BEGIN:STANDARD
TZOFFSETFROM:-0400
TZOFFSETTO:-0500
TZNAME:EST
DTSTART:20241103T060000
END:STANDARD
BEGIN:DAYLIGHT
TZOFFSETFROM:-0500
TZOFFSETTO:-0400
TZNAME:EDT
DTSTART:20250309T070000
END:DAYLIGHT
BEGIN:STANDARD
TZOFFSETFROM:-0400
TZOFFSETTO:-0500
TZNAME:EST
DTSTART:20251102T060000
END:STANDARD
END:VTIMEZONE
BEGIN:VEVENT
DTSTART;TZID=America/Toronto:20240717T080000
DTEND;TZID=America/Toronto:20240831T170000
DTSTAMP:20260419T175715
CREATED:20240718T002330Z
LAST-MODIFIED:20251011T012254Z
UID:2153-1721203200-1725123600@haldimandphotographyclub.com
SUMMARY:Hagersville 150th Anniversary Contest
DESCRIPTION:The Hagersville 150th Anniversary Committee wants to see Hagersville through your lens. Its abundance of outdoor recreational options\, scenic lookouts\, community events\, historic sites and culinary experiences make it an incredible place to live\, explore\, and photograph!  \n\n\n\nEnter your photos of Hagersville’s beautiful environment\, architecture and/or vibrant community life for a chance to win some great prizes in the Hagersville 150 Photo Contest! 12 Winners will be featured in a Commemorative Calendar\, that will be sold to fundraise for amazing community events in the year 2025. \n\n\n\nHave you dreamt of having your photography displayed in the homes and workplaces of your neighbours and friends? Well now is your chance! \n\n\n\nContest will be open until August 31st 2024\, and winners will be contacted in September. Winners will recieve a $25 Gift Card to a local business\, and a free copy of the Commemorative Calendar! \n\n\n\nWe encourage photographers submit photos from all seasons\, as we would like for our calendar to reflect the beauty of Hagersville throughout the year! \n\n\n\nSubmissions can be made through the contact form and must conform to all official Rules and Regulations. Form can be found on the Hagersville Chamber website \n\n\n\nFor any additional information or questions contact Terri Mand. \n\n\n\n\nhttps://hagersvillechamber.ca/150\n\n\n\n\n#haldimandcounty#Hagersville150#hagersville
URL:https://haldimandphotographyclub.com/event/hagersville-150th-anniversary-contest/
CATEGORIES:Special Interest
ATTACH;FMTTYPE=image/jpeg:https://haldimandphotographyclub.com/wp-content/uploads/2024/07/150.jpg
END:VEVENT
BEGIN:VEVENT
DTSTART;TZID=America/Toronto:20240525T000000
DTEND;TZID=America/Toronto:20240526T235959
DTSTAMP:20260419T175715
CREATED:20240222T162143Z
LAST-MODIFIED:20251011T012404Z
UID:1489-1716595200-1716767999@haldimandphotographyclub.com
SUMMARY:Wentworth Medieval Faire
DESCRIPTION:Experience the excitement and wonder of the Middle Ages in a festival like no other. Held at the grand Ancaster Fairgrounds (near Hamilton\, Ontario)\, this event will transport you back in time to a world of knights\, princesses\, and medieval marvels. \n\n\n\nThe Wentworth Medieval Faire is an unforgettable event that you won’t want to miss. Experience the magic of the Middle Ages and create memories that will last a lifetime. \n\n\n\nChildren 5 and under are Free! \n\n\n\n\n\n\n\n\n\n\nTICKETS\n\n\n\n\n\n\n\n\n\n\nAdvanced pricing (plus fees and taxes)Adults $19.95 Youth and  seniors $17.95  \n\n\n\n\n\nDay of event (includes fees and taxes)Adult $30Senior and Youth $25
URL:https://haldimandphotographyclub.com/event/wentworth-medieval-faire/
LOCATION:Ancaster Fairgrounds\, 630 Trinity Rd S\, Jerseyville\, ON\, L0R 1R0\, Canada
CATEGORIES:Special Interest
ATTACH;FMTTYPE=image/jpeg:https://haldimandphotographyclub.com/wp-content/uploads/2024/02/394673415_285350444463095_1914313105044902573_n.jpg
END:VEVENT
BEGIN:VEVENT
DTSTART;TZID=America/Toronto:20240520T090000
DTEND;TZID=America/Toronto:20240524T210000
DTSTAMP:20260419T175715
CREATED:20240322T143958Z
LAST-MODIFIED:20240322T145607Z
UID:1670-1716195600-1716584400@haldimandphotographyclub.com
SUMMARY:Lightroom Virtual Summit 2024
DESCRIPTION:ONLINE EVENT This instructor team has created not only real-world\, practical Lightroom sessions\, but also will be providing session notes*. This is a true educational event! \n\n\n\n\n\n\nPre-register Here
URL:https://haldimandphotographyclub.com/event/lightroom-virtual-summit-2024/
CATEGORIES:Special Interest
ATTACH;FMTTYPE=image/png:https://haldimandphotographyclub.com/wp-content/uploads/2024/03/Screenshot-2024-03-22-at-10.30.53-AM.png
END:VEVENT
BEGIN:VEVENT
DTSTART;TZID=America/Toronto:20240420T090000
DTEND;TZID=America/Toronto:20240420T160000
DTSTAMP:20260419T175715
CREATED:20240222T164619Z
LAST-MODIFIED:20251011T012419Z
UID:1499-1713603600-1713628800@haldimandphotographyclub.com
SUMMARY:Spring Seminar with OM Ambassador Peter Baumgarten
DESCRIPTION:Register Here\n\n\n\n\n\n\nSchedule: \n\n\n\n\n9:00 – Into the Landscape (75 – 90 minutes)\n\n\n\n10:30 – Break (30 minutes)\n\n\n\n11:00 – Wildlife for the Non-wildlife photographer (60 minutes)\n\n\n\nLunch – will be included for the day and there will be vendors to shop and enjoy while taking a break\n\n\n\n1:30 – Shoot for the Stars (night and astrophotography) (75 – 90 minutes)\n\n\n\n3:00 – Break (30 minutes)\n\n\n\n3:30 – Seeing Differently (macro and composition) (60 – 75 minutes)\n\n\n\n\nThis video explains Peter better than words but his bio is below \n\n\n\n\n\n\n\n\n\nFor images by Peter visit his website or Instagam or Facebook Page at: https://www.creativeislandphoto.com/portfolio.html \n\n\n\n\nhttps://www.instagram.com/creativeislandphoto/\n\n\n\n\n\nhttps://www.facebook.com/creativeislandphoto\n\n\n\n\nWho is Peter Baumgarten? \n\n\n\nHe is an award-winning professional photographer\, OM SYSTEM Ambassador and educator based on Manitoulin Island where the stunning nature surrounding him inspires his work. He picked up his first camera at the age of 12 and was instantly hooked. Inspired by Canadian photographer\, Freeman Patterson and his book\, “The Art of Seeing” Peter is always striving to see the world in ways that most people miss. Peter regularly leads photography courses and workshops for novice and enthusiast photographers and travels across North America as an Olympus Visionary providing lectures and seminars on landscape\, wildlife\, and astrophotography. As owner of Creative Island Photography\, Peter has turned a life-long interest into a second career. His love of the craft has also become a great excuse to continue his other passion – exploring the great outdoors through wilderness camping\, canoeing and kayaking. Peter’s work has been published in a number of magazines in both Canada and the United States including Canadian Geographic\, Shutterbug\, Outdoor Photographer\, Popular Photography and others. He has also been recognized for photographic excellence and vision on a number of websites. Peter maintains his own blog with an emphasis on tutorials that will assist others in bringing their photography up to the next level. Peter resides with his wife and the comings and goings of six adult children. When not out photographing his surroundings\, he continues to teach part-time\, renovate his 140-year old home\, garden\, and participate in a local theatre group.
URL:https://haldimandphotographyclub.com/event/spring-seminar-with-om-ambassador-peter-baumgarten/
LOCATION:St Catherines Photographic Club\, Grantham M.B. Church\, 469 Grantham Ave\,\, St.Catharines\, ON\, L2M 3J2\, Canada
CATEGORIES:Special Interest
ATTACH;FMTTYPE=image/jpeg:https://haldimandphotographyclub.com/wp-content/uploads/2024/02/Poster-St-Catherines-Hi-Res-scaled.jpg
END:VEVENT
END:VCALENDAR