BEGIN:VCALENDAR
VERSION:2.0
PRODID:-//Haldimand Photography Club - ECPv6.15.20//NONSGML v1.0//EN
CALSCALE:GREGORIAN
METHOD:PUBLISH
X-ORIGINAL-URL:https://haldimandphotographyclub.com
X-WR-CALDESC:Events for Haldimand Photography Club
REFRESH-INTERVAL;VALUE=DURATION:PT1H
X-Robots-Tag:noindex
X-PUBLISHED-TTL:PT1H
BEGIN:VTIMEZONE
TZID:America/Toronto
BEGIN:DAYLIGHT
TZOFFSETFROM:-0500
TZOFFSETTO:-0400
TZNAME:EDT
DTSTART:20240310T070000
END:DAYLIGHT
BEGIN:STANDARD
TZOFFSETFROM:-0400
TZOFFSETTO:-0500
TZNAME:EST
DTSTART:20241103T060000
END:STANDARD
BEGIN:DAYLIGHT
TZOFFSETFROM:-0500
TZOFFSETTO:-0400
TZNAME:EDT
DTSTART:20250309T070000
END:DAYLIGHT
BEGIN:STANDARD
TZOFFSETFROM:-0400
TZOFFSETTO:-0500
TZNAME:EST
DTSTART:20251102T060000
END:STANDARD
BEGIN:DAYLIGHT
TZOFFSETFROM:-0500
TZOFFSETTO:-0400
TZNAME:EDT
DTSTART:20260308T070000
END:DAYLIGHT
BEGIN:STANDARD
TZOFFSETFROM:-0400
TZOFFSETTO:-0500
TZNAME:EST
DTSTART:20261101T060000
END:STANDARD
END:VTIMEZONE
BEGIN:VEVENT
DTSTART;TZID=America/Toronto:20251013T100000
DTEND;TZID=America/Toronto:20251013T160000
DTSTAMP:20260421T000818
CREATED:20251004T211847Z
LAST-MODIFIED:20251004T211847Z
UID:6512-1760349600-1760371200@haldimandphotographyclub.com
SUMMARY:Ruthven Park’s 27th Annual Cars in the Park
DESCRIPTION:Photo Oppourtunity Event \n*This is a public event\, see if one of your camera buddies may want to go with you!\n*Please note that any admission costs should be paid to the event directly \nAdmission $10 per car. \nRev up your engines and cruise on over to the most anticipated car show of the year! Whether you’re a car enthusiast\, a collector\, or just someone who appreciates the beauty of finely crafted automobiles\, this event is for you. It’s a celebration of automotive history that you won’t want to miss! \nDash Plaques for First 100 Cars\, Alfie’s Lemonade\, Concession Stand\, Door Prizes\, Historic House Tours\, Cemetery Tours & Children’s Activities! \nPlease note: This is a rain-or-shine event. In the case of severe weather\, Ruthven Park reserves the right to alter or cancel the event at the organizations discretion.
URL:https://haldimandphotographyclub.com/event/ruthven-parks-27th-annual-cars-in-the-park/
LOCATION:Ruthven Park National Historic Site\, 243 Haldimand County Highway 54\, Cayuga\, ON\, N0A 1E0\, Canada
CATEGORIES:Special Interest
ATTACH;FMTTYPE=image/webp:https://haldimandphotographyclub.com/wp-content/uploads/2025/10/iStock-1268369774.jpg.webp
END:VEVENT
END:VCALENDAR