BEGIN:VCALENDAR
VERSION:2.0
PRODID:-//Haldimand Photography Club - ECPv6.15.20//NONSGML v1.0//EN
CALSCALE:GREGORIAN
METHOD:PUBLISH
X-WR-CALNAME:Haldimand Photography Club
X-ORIGINAL-URL:https://haldimandphotographyclub.com
X-WR-CALDESC:Events for Haldimand Photography Club
REFRESH-INTERVAL;VALUE=DURATION:PT1H
X-Robots-Tag:noindex
X-PUBLISHED-TTL:PT1H
BEGIN:VTIMEZONE
TZID:America/Toronto
BEGIN:DAYLIGHT
TZOFFSETFROM:-0500
TZOFFSETTO:-0400
TZNAME:EDT
DTSTART:20240310T070000
END:DAYLIGHT
BEGIN:STANDARD
TZOFFSETFROM:-0400
TZOFFSETTO:-0500
TZNAME:EST
DTSTART:20241103T060000
END:STANDARD
BEGIN:DAYLIGHT
TZOFFSETFROM:-0500
TZOFFSETTO:-0400
TZNAME:EDT
DTSTART:20250309T070000
END:DAYLIGHT
BEGIN:STANDARD
TZOFFSETFROM:-0400
TZOFFSETTO:-0500
TZNAME:EST
DTSTART:20251102T060000
END:STANDARD
BEGIN:DAYLIGHT
TZOFFSETFROM:-0500
TZOFFSETTO:-0400
TZNAME:EDT
DTSTART:20260308T070000
END:DAYLIGHT
BEGIN:STANDARD
TZOFFSETFROM:-0400
TZOFFSETTO:-0500
TZNAME:EST
DTSTART:20261101T060000
END:STANDARD
END:VTIMEZONE
BEGIN:VEVENT
DTSTART;TZID=America/Toronto:20250613T100000
DTEND;TZID=America/Toronto:20250614T160000
DTSTAMP:20260421T183822
CREATED:20250510T152058Z
LAST-MODIFIED:20251011T011823Z
UID:4808-1749808800-1749916800@haldimandphotographyclub.com
SUMMARY:Bell Arte Camera Annual Tent Sale
DESCRIPTION:  \nTrade-up and trade-in at Bell Arte Camera’s annual Tent Sale\nBell Arte Camera welcomes you to come check out their annual tent sale on Friday June 13th and Saturday June 14th. Save big\, trade-in or trade-up! \n 
URL:https://haldimandphotographyclub.com/event/bell-arte-camera-annual-tent-sale/
CATEGORIES:Special Interest
END:VEVENT
END:VCALENDAR