BEGIN:VCALENDAR
VERSION:2.0
PRODID:-//Haldimand Photography Club - ECPv6.15.20//NONSGML v1.0//EN
CALSCALE:GREGORIAN
METHOD:PUBLISH
X-WR-CALNAME:Haldimand Photography Club
X-ORIGINAL-URL:https://haldimandphotographyclub.com
X-WR-CALDESC:Events for Haldimand Photography Club
REFRESH-INTERVAL;VALUE=DURATION:PT1H
X-Robots-Tag:noindex
X-PUBLISHED-TTL:PT1H
BEGIN:VTIMEZONE
TZID:America/Toronto
BEGIN:DAYLIGHT
TZOFFSETFROM:-0500
TZOFFSETTO:-0400
TZNAME:EDT
DTSTART:20230312T070000
END:DAYLIGHT
BEGIN:STANDARD
TZOFFSETFROM:-0400
TZOFFSETTO:-0500
TZNAME:EST
DTSTART:20231105T060000
END:STANDARD
BEGIN:DAYLIGHT
TZOFFSETFROM:-0500
TZOFFSETTO:-0400
TZNAME:EDT
DTSTART:20240310T070000
END:DAYLIGHT
BEGIN:STANDARD
TZOFFSETFROM:-0400
TZOFFSETTO:-0500
TZNAME:EST
DTSTART:20241103T060000
END:STANDARD
BEGIN:DAYLIGHT
TZOFFSETFROM:-0500
TZOFFSETTO:-0400
TZNAME:EDT
DTSTART:20250309T070000
END:DAYLIGHT
BEGIN:STANDARD
TZOFFSETFROM:-0400
TZOFFSETTO:-0500
TZNAME:EST
DTSTART:20251102T060000
END:STANDARD
END:VTIMEZONE
BEGIN:VEVENT
DTSTART;TZID=America/Toronto:20241213T100000
DTEND;TZID=America/Toronto:20241214T153000
DTSTAMP:20260422T221059
CREATED:20241207T030411Z
LAST-MODIFIED:20241207T030411Z
UID:3259-1734084000-1734190200@haldimandphotographyclub.com
SUMMARY:Sell your Digital and film gear!
DESCRIPTION:Bell Arte Camera is having a trade in event!  If you are planning on upgrading your equipment and have digital and film gear that you would like to sell\, you can bring it in and get paid instantly\, plus receive a 10% trade-in bonus! \nThis event runs: \nDecember 13th from 10:00 am – 4:00 pm \nDecember 14th from 10:00 am – 3:30 pm \n 
URL:https://haldimandphotographyclub.com/event/sell-your-digital-and-film-gear/
CATEGORIES:Special Interest
END:VEVENT
END:VCALENDAR