BEGIN:VCALENDAR
VERSION:2.0
PRODID:-//Haldimand Photography Club - ECPv6.15.20//NONSGML v1.0//EN
CALSCALE:GREGORIAN
METHOD:PUBLISH
X-ORIGINAL-URL:https://haldimandphotographyclub.com
X-WR-CALDESC:Events for Haldimand Photography Club
REFRESH-INTERVAL;VALUE=DURATION:PT1H
X-Robots-Tag:noindex
X-PUBLISHED-TTL:PT1H
BEGIN:VTIMEZONE
TZID:America/Toronto
BEGIN:DAYLIGHT
TZOFFSETFROM:-0500
TZOFFSETTO:-0400
TZNAME:EDT
DTSTART:20230312T070000
END:DAYLIGHT
BEGIN:STANDARD
TZOFFSETFROM:-0400
TZOFFSETTO:-0500
TZNAME:EST
DTSTART:20231105T060000
END:STANDARD
BEGIN:DAYLIGHT
TZOFFSETFROM:-0500
TZOFFSETTO:-0400
TZNAME:EDT
DTSTART:20240310T070000
END:DAYLIGHT
BEGIN:STANDARD
TZOFFSETFROM:-0400
TZOFFSETTO:-0500
TZNAME:EST
DTSTART:20241103T060000
END:STANDARD
BEGIN:DAYLIGHT
TZOFFSETFROM:-0500
TZOFFSETTO:-0400
TZNAME:EDT
DTSTART:20250309T070000
END:DAYLIGHT
BEGIN:STANDARD
TZOFFSETFROM:-0400
TZOFFSETTO:-0500
TZNAME:EST
DTSTART:20251102T060000
END:STANDARD
END:VTIMEZONE
BEGIN:VEVENT
DTSTART;TZID=America/Toronto:20240520T090000
DTEND;TZID=America/Toronto:20240524T210000
DTSTAMP:20260424T001554
CREATED:20240322T143958Z
LAST-MODIFIED:20240322T145607Z
UID:1670-1716195600-1716584400@haldimandphotographyclub.com
SUMMARY:Lightroom Virtual Summit 2024
DESCRIPTION:ONLINE EVENT This instructor team has created not only real-world\, practical Lightroom sessions\, but also will be providing session notes*. This is a true educational event! \n\n\n\n\n\n\nPre-register Here
URL:https://haldimandphotographyclub.com/event/lightroom-virtual-summit-2024/
CATEGORIES:Special Interest
ATTACH;FMTTYPE=image/png:https://haldimandphotographyclub.com/wp-content/uploads/2024/03/Screenshot-2024-03-22-at-10.30.53-AM.png
END:VEVENT
END:VCALENDAR