BEGIN:VCALENDAR
VERSION:2.0
PRODID:-//Haldimand Photography Club - ECPv6.15.20//NONSGML v1.0//EN
CALSCALE:GREGORIAN
METHOD:PUBLISH
X-WR-CALNAME:Haldimand Photography Club
X-ORIGINAL-URL:https://haldimandphotographyclub.com
X-WR-CALDESC:Events for Haldimand Photography Club
REFRESH-INTERVAL;VALUE=DURATION:PT1H
X-Robots-Tag:noindex
X-PUBLISHED-TTL:PT1H
BEGIN:VTIMEZONE
TZID:America/Toronto
BEGIN:DAYLIGHT
TZOFFSETFROM:-0500
TZOFFSETTO:-0400
TZNAME:EDT
DTSTART:20230312T070000
END:DAYLIGHT
BEGIN:STANDARD
TZOFFSETFROM:-0400
TZOFFSETTO:-0500
TZNAME:EST
DTSTART:20231105T060000
END:STANDARD
BEGIN:DAYLIGHT
TZOFFSETFROM:-0500
TZOFFSETTO:-0400
TZNAME:EDT
DTSTART:20240310T070000
END:DAYLIGHT
BEGIN:STANDARD
TZOFFSETFROM:-0400
TZOFFSETTO:-0500
TZNAME:EST
DTSTART:20241103T060000
END:STANDARD
BEGIN:DAYLIGHT
TZOFFSETFROM:-0500
TZOFFSETTO:-0400
TZNAME:EDT
DTSTART:20250309T070000
END:DAYLIGHT
BEGIN:STANDARD
TZOFFSETFROM:-0400
TZOFFSETTO:-0500
TZNAME:EST
DTSTART:20251102T060000
END:STANDARD
END:VTIMEZONE
BEGIN:VEVENT
DTSTART;VALUE=DATE:20241102
DTEND;VALUE=DATE:20241104
DTSTAMP:20260422T215219
CREATED:20241007T002543Z
LAST-MODIFIED:20241007T002917Z
UID:2822-1730505600-1730678399@haldimandphotographyclub.com
SUMMARY:Niagara Association of Photographic Art - 2nd Annual Fall Seminar
DESCRIPTION:Niagara Association of Photographic Art is presenting their 2nd Annual Fall Seminar \nWe would like to ask that you share this information with your club members.  If you are not the correct representative for your club we would appreciate if you would pass on to the correct club representative. \nSpeaker: David Akoubain \nDate: Nov 2 & 3\, 2024 \nLocation: Fireman’s Hall\, 2275 Dorchester Rd\, Niagara Falls\, ON \nCost: Saturday presentation $60.00;  Saturday & Sunday workshops combined price $80.00 (Sunday workshops full – taking name for waiting list in case of cancellation – contact for wait list vstranaghan@niagaraphoto.org). \nSeminar pricing includes: LUNCH\, COFFEE\, TEA\, SNACKS \nDoor Prizes \nClick on link for Seminar and Workshop details: Fall Seminar 2024 Poster
URL:https://haldimandphotographyclub.com/event/niagara-association-of-photographic-art-2nd-annual-fall-seminar/
CATEGORIES:Special Interest
END:VEVENT
END:VCALENDAR