BEGIN:VCALENDAR
VERSION:2.0
PRODID:-//Haldimand Photography Club - ECPv6.15.20//NONSGML v1.0//EN
CALSCALE:GREGORIAN
METHOD:PUBLISH
X-ORIGINAL-URL:https://haldimandphotographyclub.com
X-WR-CALDESC:Events for Haldimand Photography Club
REFRESH-INTERVAL;VALUE=DURATION:PT1H
X-Robots-Tag:noindex
X-PUBLISHED-TTL:PT1H
BEGIN:VTIMEZONE
TZID:America/Toronto
BEGIN:DAYLIGHT
TZOFFSETFROM:-0500
TZOFFSETTO:-0400
TZNAME:EDT
DTSTART:20230312T070000
END:DAYLIGHT
BEGIN:STANDARD
TZOFFSETFROM:-0400
TZOFFSETTO:-0500
TZNAME:EST
DTSTART:20231105T060000
END:STANDARD
BEGIN:DAYLIGHT
TZOFFSETFROM:-0500
TZOFFSETTO:-0400
TZNAME:EDT
DTSTART:20240310T070000
END:DAYLIGHT
BEGIN:STANDARD
TZOFFSETFROM:-0400
TZOFFSETTO:-0500
TZNAME:EST
DTSTART:20241103T060000
END:STANDARD
BEGIN:DAYLIGHT
TZOFFSETFROM:-0500
TZOFFSETTO:-0400
TZNAME:EDT
DTSTART:20250309T070000
END:DAYLIGHT
BEGIN:STANDARD
TZOFFSETFROM:-0400
TZOFFSETTO:-0500
TZNAME:EST
DTSTART:20251102T060000
END:STANDARD
END:VTIMEZONE
BEGIN:VEVENT
DTSTART;TZID=America/Toronto:20241107T110000
DTEND;TZID=America/Toronto:20241107T140000
DTSTAMP:20260420T051921
CREATED:20241101T122738Z
LAST-MODIFIED:20241101T123150Z
UID:2997-1730977200-1730988000@haldimandphotographyclub.com
SUMMARY:Last Minute HPC Photo Excursion - Hamilton Mounted Police Unit
DESCRIPTION:  \nHamilton Police Mounted Unit\, 2-4 officers riding Police horses. \nThe farm is located on 100 acres\, most of which is forest with trails running through it. The Mounted Unit also has a large indoor ring which can be used if the weather does not cooperate for outdoor shooting. We are hoping to be outside and go into the forest area with coloured leaf foliage and the horses providing a contrast look with lots of options available. \n  \nMaximum of 10 photographers. Because we are limiting the number of photographers if you indicate you are attending\, please attend. \nThe charge associated with this outing is $20 pp. paid to the club. \nThis event is subject to change or cancellation. If we have to cancel you will be fully refunded. \n  \nHPC Contact person Randy Carter…rlcarter653@gmail.com \nPayment is made through e-Transfer. please use the following address HPCtrust1@gmail.com add Mounted Unit to comment/note section \n[rtec-registration-form]
URL:https://haldimandphotographyclub.com/event/last-minute-hpc-photo-excursion-hamilton-mounted-police-unit/
CATEGORIES:Photographic Outing
END:VEVENT
BEGIN:VEVENT
DTSTART;TZID=America/Toronto:20241011T170000
DTEND;TZID=America/Toronto:20241014T170000
DTSTAMP:20260420T051921
CREATED:20241006T145112Z
LAST-MODIFIED:20241006T150102Z
UID:2808-1728666000-1728925200@haldimandphotographyclub.com
SUMMARY:Rockton Fair
DESCRIPTION:Terri Mand has made arrangements with the Rockton Fair for free admission for HPC members in exchange for photos. \nThe Rockton Fair is Thanksgiving weekend. \nThere are currently have 6 passes. If you are interested\, email Terri and she will get you hooked up.
URL:https://haldimandphotographyclub.com/event/rockton-fair/
LOCATION:Rockton Fair\, 812 Old Highway 8\, Rockton\, ON\, L0R 1X0\, Canada
CATEGORIES:Photographic Outing
ATTACH;FMTTYPE=image/jpeg:https://haldimandphotographyclub.com/wp-content/uploads/2024/10/462079263_10162608409842526_3639059504951172748_n.jpg
END:VEVENT
BEGIN:VEVENT
DTSTART;TZID=America/Toronto:20240727T120000
DTEND;TZID=America/Toronto:20240728T170000
DTSTAMP:20260420T051921
CREATED:20240715T031633Z
LAST-MODIFIED:20240801T161814Z
UID:2135-1722081600-1722186000@haldimandphotographyclub.com
SUMMARY:Rockton Ram Rodeo
DESCRIPTION:This is event is open to the public\, however\, Haldimand Photography Club has an opportunity for our members to obtain free passes.  There are four passes available for Saturday July 27th\, and the Fairgrounds open at Noon and the Rodeo runs through to 9:00 pm.  We have one pass available for Sunday July 28th. on Sunday\, Fairgrounds open at 11:00 am and runs through till 5:00 pm.  This is a great opportunity for our members to photograph the various events that take place at a Rodeo.  Good practice as there will be another rodeo in September.  The event schedule is as follows: \n\n\n\nJuly 27th (Four passes available) \n\n\n\n12 pm – Gates\, Vendor\, AG Alive Animal Barn & Bar Open \n\n\n\n 1 pm – Ty Baynton (Live Music) \n\n\n\n 2 pm – Kids Rodeo (frere with admission) \n\n\n\n  3 pm – TY Bayton (Live Music) \n\n\n\n 4 pm – Ram Rodeo Performance \n\n\n\n 7 pm – Ty Bayton (Live Music) \n\n\n\n 9 pm – Grounds closes \n\n\n\nJuly 28th (One Pass available) \n\n\n\n11 am – Gates\, Vendor\, AG Alive Animal Barn & Bar Open \n\n\n\n11 am – Kids Rodeo (frere with admission) \n\n\n\n12 pm – TY Bayton (Live Music) \n\n\n\n  1 pm – Ram Rodeo Performance \n\n\n\n  4 pm – Ty Bayton (Live Music) \n\n\n\n  5 pm – Grounds closes \n\n\n\nIf you are interested in going to the Rodeo and take photos of the event\, you can arrange to get passes through Terri Mand.  Terri’s email is terri.mand@gmail.com
URL:https://haldimandphotographyclub.com/event/rocton-ram-rodeo/
LOCATION:Rockton Fair\, 812 Old Highway 8\, Rockton\, ON\, L0R 1X0\, Canada
CATEGORIES:Photographic Outing
ATTACH;FMTTYPE=image/jpeg:https://haldimandphotographyclub.com/wp-content/uploads/2024/07/DSC03331.jpg
END:VEVENT
BEGIN:VEVENT
DTSTART;TZID=America/Toronto:20240629T090000
DTEND;TZID=America/Toronto:20240629T120000
DTSTAMP:20260420T051921
CREATED:20240609T144233Z
LAST-MODIFIED:20251011T012327Z
UID:2061-1719651600-1719662400@haldimandphotographyclub.com
SUMMARY:Available Light Workshop at St. Albans Church in Rockton
DESCRIPTION:Note:  This workshop has been CANCELLED and we will look at rescheduling in the Fall if there is more interest at that time! \n\n\n\nWe have booked a morning session at a quaint church in Rockton that was originally Anglican but is now managed by the Friends of St. Alban’s.  It has no electricity but has a functioning bell\, pump organ\, and original plaster walls.  There are 3 stained glass windows (faith\, hope\, and charity).  It is surrounded by a cemetery.  This is a great opportunity to come out and learn how to shoot with available light. Peter Charles will be leading the workshop and he will discuss camera settings and how to shoot with available light both inside the church and outside. The money collected will be used to donate to the church organization for allowing us to use it. Please note that we currently have reserved at table for 12 at the Cookhouse Bistro in Rockton (restaurant is located across the street from the church)\, for 12:00 pm (Noon). If you would like to have lunch please email Terri Mand at terrimand@gmail.com \n\n\n\n \n\n\n\nLunch is booked for noon for 12. Lunch is at the expense of the attendee.  There are washrooms at the restaurant\, but none at the church.  Parking is along the side of the road or in the cemetery portion at the back of the church.   \n\n\n\n The website for St. Alban’s is https://stalbanschurch.weebly.com/ if anyone wants to check it out ahead of time.  \n\n\n\nPayment is made through e-Transfer. please use the following address HPCtrust1@gmail.com add Available Light Workshop to comment/note section
URL:https://haldimandphotographyclub.com/event/available-light-workshop-at-st-albans-church-in-rockton/
LOCATION:McLean’s Auto Wreckers\, 12584\, Fourth Line Nassagaweya\,\, Rockwood\, ON\, N0B 2K0\, Canada
CATEGORIES:Photographic Outing
END:VEVENT
BEGIN:VEVENT
DTSTART;TZID=America/Toronto:20240529T170000
DTEND;TZID=America/Toronto:20240529T200000
DTSTAMP:20260420T051921
CREATED:20240516T001514Z
LAST-MODIFIED:20251011T012349Z
UID:2003-1717002000-1717012800@haldimandphotographyclub.com
SUMMARY:Agility Photoshoot
DESCRIPTION:Photograph dogs during their agility training session with K9 Principles.  The dogs use the Caledonia Fairgrounds auditorium to train\, no flashes are to be used. \n\n\n\nDepending on the number of registrations for the event we will separate the photographers into groups of no more than 5. \n\n\n\nWe will cycle the groups through so that we do not overwhelm the dogs that are in training as well as giving the photographers better vantage points \n\n\n\nThere will be a Dropbox setup after the shoot so that we can share our photos with K9 Principles. Please ensure you have added your watermarks so that credit can be given. \n\n\n\nCut off for registration: May 26 \n\n\n\nPayment is made through e-Transfer. please use the following address HPCtrust1@gmail.com add Agility Photoshoot to comment/note section \n\n\n\nPlease add your photos in our Dropbox folder using this link: https://www.dropbox.com/request/UJDcfN3ESekAM3d8zzWb
URL:https://haldimandphotographyclub.com/event/agility-photoshoot/
CATEGORIES:Photographic Outing
ORGANIZER;CN="Gail MacLellan":MAILTO:events@haldimandphotographyclub.com
END:VEVENT
BEGIN:VEVENT
DTSTART;TZID=America/Toronto:20240324T080000
DTEND;TZID=America/Toronto:20240324T160000
DTSTAMP:20260420T051921
CREATED:20240205T040114Z
LAST-MODIFIED:20240212T170142Z
UID:718-1711267200-1711296000@haldimandphotographyclub.com
SUMMARY:Around the Bay Road Race
DESCRIPTION:Opportunity to photograph as a spectator. There are paid sports photographers on the course capturing the runners at various kilometer markers. HPC could attend the finish line {Tim Horton’s Field} and capture the pulse of the race\, the spectators and the many volunteers that make the race run smoothly. Opportunity to photograph outside as well as inside the stadium. \n\n\n\nFrom the Race Director: Anna LEWIS…….The Around the Bay Road Race would also welcome any photos from this year’s race as they are celebrating its 130th anniversary and would love photos for historical files but also for future marketing and promotion.  Photo credit would be given if desired.
URL:https://haldimandphotographyclub.com/event/around-the-bay-road-race/
LOCATION:Around the Bay Road Race – Tim Hortons Field\, 64 Melrose Ave N\, Hamilton\, Ontario\, L8L 8C1\, Canada
CATEGORIES:Photographic Outing
ATTACH;FMTTYPE=image/jpeg:https://haldimandphotographyclub.com/wp-content/uploads/2024/02/image.jpeg
ORGANIZER;CN="Randy Carter":MAILTO:publications@haldimandphotographyclub.com
END:VEVENT
END:VCALENDAR