BEGIN:VCALENDAR
VERSION:2.0
PRODID:-//Haldimand Photography Club - ECPv6.15.20//NONSGML v1.0//EN
CALSCALE:GREGORIAN
METHOD:PUBLISH
X-ORIGINAL-URL:https://haldimandphotographyclub.com
X-WR-CALDESC:Events for Haldimand Photography Club
REFRESH-INTERVAL;VALUE=DURATION:PT1H
X-Robots-Tag:noindex
X-PUBLISHED-TTL:PT1H
BEGIN:VTIMEZONE
TZID:America/Toronto
BEGIN:DAYLIGHT
TZOFFSETFROM:-0500
TZOFFSETTO:-0400
TZNAME:EDT
DTSTART:20250309T070000
END:DAYLIGHT
BEGIN:STANDARD
TZOFFSETFROM:-0400
TZOFFSETTO:-0500
TZNAME:EST
DTSTART:20251102T060000
END:STANDARD
BEGIN:DAYLIGHT
TZOFFSETFROM:-0500
TZOFFSETTO:-0400
TZNAME:EDT
DTSTART:20260308T070000
END:DAYLIGHT
BEGIN:STANDARD
TZOFFSETFROM:-0400
TZOFFSETTO:-0500
TZNAME:EST
DTSTART:20261101T060000
END:STANDARD
BEGIN:DAYLIGHT
TZOFFSETFROM:-0500
TZOFFSETTO:-0400
TZNAME:EDT
DTSTART:20270314T070000
END:DAYLIGHT
BEGIN:STANDARD
TZOFFSETFROM:-0400
TZOFFSETTO:-0500
TZNAME:EST
DTSTART:20271107T060000
END:STANDARD
END:VTIMEZONE
BEGIN:VEVENT
DTSTART;TZID=America/Toronto:20260310T100000
DTEND;TZID=America/Toronto:20260310T150000
DTSTAMP:20260420T105705
CREATED:20260223T230408Z
LAST-MODIFIED:20260223T232533Z
UID:7216-1773136800-1773154800@haldimandphotographyclub.com
SUMMARY:Bloomland in Oz
DESCRIPTION:Explore Oz with your fellow photographers\, we will meet as a group and at 10am in the hall after the ticket booth. You can go off on your own or pair off into groups as you wish. \nYou must purchase your own ticket through the RBG website. \nPlease also RSVP below so that the organizers will know who we are waiting for to join us. \nAdult $24.04\n$19.50 ticket + $4.54 (13% HST & $2 Service Fee) \nSenior (65+)   $20.65\n$16.50 ticket + $4.15 (13% HST & $2 Service Fee) \n  \nFollow the road that leads to Royal Botanical Gardens’ 2026 floral showcase\, “Bloomland in Oz\,” where imagination blossoms into a spectacular adventure inspired by the pages of the original novel\, The Wonderful Wizard of Oz. \nThe land of Oz awaits\, featuring captivating botanical displays\, delightful artistic creations\, and 25\,000 real blooms. Brighten the winter months as you journey through fragrant flowers and lush greenery as radiant as the Emerald City itself! \nAs part of the 2026 floral showcase\, RBG presents Of Wonders Wild and New. This visual arts exhibition draws on themes from the world of Oz through the lens of contemporary woodworking\, featuring six artists from across Canada\, Six Nations\, Italy and Spain\, joined by members of the Ontario Wood Carving Association. \nEvery path is filled with magic in this all-ages indoor experience\, where the journey is just as extraordinary as the destination.
URL:https://haldimandphotographyclub.com/event/bloomland/
LOCATION:Royal Botanical Gardens\, Burlington\, ON\, L7T 4H4\, Canada
CATEGORIES:Photographic Outing
ATTACH;FMTTYPE=image/webp:https://haldimandphotographyclub.com/wp-content/uploads/2026/02/Dudek-Photography-09-scaled.jpg.webp
ORGANIZER;CN="Gail MacLellan":MAILTO:events@haldimandphotographyclub.com
END:VEVENT
END:VCALENDAR