BEGIN:VCALENDAR
VERSION:2.0
PRODID:-//Haldimand Photography Club - ECPv6.15.20//NONSGML v1.0//EN
CALSCALE:GREGORIAN
METHOD:PUBLISH
X-WR-CALNAME:Haldimand Photography Club
X-ORIGINAL-URL:https://haldimandphotographyclub.com
X-WR-CALDESC:Events for Haldimand Photography Club
REFRESH-INTERVAL;VALUE=DURATION:PT1H
X-Robots-Tag:noindex
X-PUBLISHED-TTL:PT1H
BEGIN:VTIMEZONE
TZID:America/Toronto
BEGIN:DAYLIGHT
TZOFFSETFROM:-0500
TZOFFSETTO:-0400
TZNAME:EDT
DTSTART:20230312T070000
END:DAYLIGHT
BEGIN:STANDARD
TZOFFSETFROM:-0400
TZOFFSETTO:-0500
TZNAME:EST
DTSTART:20231105T060000
END:STANDARD
BEGIN:DAYLIGHT
TZOFFSETFROM:-0500
TZOFFSETTO:-0400
TZNAME:EDT
DTSTART:20240310T070000
END:DAYLIGHT
BEGIN:STANDARD
TZOFFSETFROM:-0400
TZOFFSETTO:-0500
TZNAME:EST
DTSTART:20241103T060000
END:STANDARD
BEGIN:DAYLIGHT
TZOFFSETFROM:-0500
TZOFFSETTO:-0400
TZNAME:EDT
DTSTART:20250309T070000
END:DAYLIGHT
BEGIN:STANDARD
TZOFFSETFROM:-0400
TZOFFSETTO:-0500
TZNAME:EST
DTSTART:20251102T060000
END:STANDARD
END:VTIMEZONE
BEGIN:VEVENT
DTSTART;TZID=America/Toronto:20241011T170000
DTEND;TZID=America/Toronto:20241014T170000
DTSTAMP:20260423T161905
CREATED:20241006T145112Z
LAST-MODIFIED:20241006T150102Z
UID:2808-1728666000-1728925200@haldimandphotographyclub.com
SUMMARY:Rockton Fair
DESCRIPTION:Terri Mand has made arrangements with the Rockton Fair for free admission for HPC members in exchange for photos. \nThe Rockton Fair is Thanksgiving weekend. \nThere are currently have 6 passes. If you are interested\, email Terri and she will get you hooked up.
URL:https://haldimandphotographyclub.com/event/rockton-fair/
LOCATION:Rockton Fair\, 812 Old Highway 8\, Rockton\, ON\, L0R 1X0\, Canada
CATEGORIES:Photographic Outing
ATTACH;FMTTYPE=image/jpeg:https://haldimandphotographyclub.com/wp-content/uploads/2024/10/462079263_10162608409842526_3639059504951172748_n.jpg
END:VEVENT
END:VCALENDAR