BEGIN:VCALENDAR
VERSION:2.0
PRODID:-//Haldimand Photography Club - ECPv6.15.20//NONSGML v1.0//EN
CALSCALE:GREGORIAN
METHOD:PUBLISH
X-WR-CALNAME:Haldimand Photography Club
X-ORIGINAL-URL:https://haldimandphotographyclub.com
X-WR-CALDESC:Events for Haldimand Photography Club
REFRESH-INTERVAL;VALUE=DURATION:PT1H
X-Robots-Tag:noindex
X-PUBLISHED-TTL:PT1H
BEGIN:VTIMEZONE
TZID:America/Toronto
BEGIN:DAYLIGHT
TZOFFSETFROM:-0500
TZOFFSETTO:-0400
TZNAME:EDT
DTSTART:20230312T070000
END:DAYLIGHT
BEGIN:STANDARD
TZOFFSETFROM:-0400
TZOFFSETTO:-0500
TZNAME:EST
DTSTART:20231105T060000
END:STANDARD
BEGIN:DAYLIGHT
TZOFFSETFROM:-0500
TZOFFSETTO:-0400
TZNAME:EDT
DTSTART:20240310T070000
END:DAYLIGHT
BEGIN:STANDARD
TZOFFSETFROM:-0400
TZOFFSETTO:-0500
TZNAME:EST
DTSTART:20241103T060000
END:STANDARD
BEGIN:DAYLIGHT
TZOFFSETFROM:-0500
TZOFFSETTO:-0400
TZNAME:EDT
DTSTART:20250309T070000
END:DAYLIGHT
BEGIN:STANDARD
TZOFFSETFROM:-0400
TZOFFSETTO:-0500
TZNAME:EST
DTSTART:20251102T060000
END:STANDARD
END:VTIMEZONE
BEGIN:VEVENT
DTSTART;TZID=America/Toronto:20240629T090000
DTEND;TZID=America/Toronto:20240629T120000
DTSTAMP:20260424T005538
CREATED:20240609T144233Z
LAST-MODIFIED:20251011T012327Z
UID:2061-1719651600-1719662400@haldimandphotographyclub.com
SUMMARY:Available Light Workshop at St. Albans Church in Rockton
DESCRIPTION:Note:  This workshop has been CANCELLED and we will look at rescheduling in the Fall if there is more interest at that time! \n\n\n\nWe have booked a morning session at a quaint church in Rockton that was originally Anglican but is now managed by the Friends of St. Alban’s.  It has no electricity but has a functioning bell\, pump organ\, and original plaster walls.  There are 3 stained glass windows (faith\, hope\, and charity).  It is surrounded by a cemetery.  This is a great opportunity to come out and learn how to shoot with available light. Peter Charles will be leading the workshop and he will discuss camera settings and how to shoot with available light both inside the church and outside. The money collected will be used to donate to the church organization for allowing us to use it. Please note that we currently have reserved at table for 12 at the Cookhouse Bistro in Rockton (restaurant is located across the street from the church)\, for 12:00 pm (Noon). If you would like to have lunch please email Terri Mand at terrimand@gmail.com \n\n\n\n \n\n\n\nLunch is booked for noon for 12. Lunch is at the expense of the attendee.  There are washrooms at the restaurant\, but none at the church.  Parking is along the side of the road or in the cemetery portion at the back of the church.   \n\n\n\n The website for St. Alban’s is https://stalbanschurch.weebly.com/ if anyone wants to check it out ahead of time.  \n\n\n\nPayment is made through e-Transfer. please use the following address HPCtrust1@gmail.com add Available Light Workshop to comment/note section
URL:https://haldimandphotographyclub.com/event/available-light-workshop-at-st-albans-church-in-rockton/
LOCATION:McLean’s Auto Wreckers\, 12584\, Fourth Line Nassagaweya\,\, Rockwood\, ON\, N0B 2K0\, Canada
CATEGORIES:Photographic Outing
END:VEVENT
END:VCALENDAR