BEGIN:VCALENDAR
VERSION:2.0
PRODID:-//Haldimand Photography Club - ECPv6.15.20//NONSGML v1.0//EN
CALSCALE:GREGORIAN
METHOD:PUBLISH
X-ORIGINAL-URL:https://haldimandphotographyclub.com
X-WR-CALDESC:Events for Haldimand Photography Club
REFRESH-INTERVAL;VALUE=DURATION:PT1H
X-Robots-Tag:noindex
X-PUBLISHED-TTL:PT1H
BEGIN:VTIMEZONE
TZID:America/Toronto
BEGIN:DAYLIGHT
TZOFFSETFROM:-0500
TZOFFSETTO:-0400
TZNAME:EDT
DTSTART:20240310T070000
END:DAYLIGHT
BEGIN:STANDARD
TZOFFSETFROM:-0400
TZOFFSETTO:-0500
TZNAME:EST
DTSTART:20241103T060000
END:STANDARD
BEGIN:DAYLIGHT
TZOFFSETFROM:-0500
TZOFFSETTO:-0400
TZNAME:EDT
DTSTART:20250309T070000
END:DAYLIGHT
BEGIN:STANDARD
TZOFFSETFROM:-0400
TZOFFSETTO:-0500
TZNAME:EST
DTSTART:20251102T060000
END:STANDARD
BEGIN:DAYLIGHT
TZOFFSETFROM:-0500
TZOFFSETTO:-0400
TZNAME:EDT
DTSTART:20260308T070000
END:DAYLIGHT
BEGIN:STANDARD
TZOFFSETFROM:-0400
TZOFFSETTO:-0500
TZNAME:EST
DTSTART:20261101T060000
END:STANDARD
END:VTIMEZONE
BEGIN:VEVENT
DTSTART;TZID=America/Toronto:20250621T100000
DTEND;TZID=America/Toronto:20250621T120000
DTSTAMP:20260422T010111
CREATED:20250512T004717Z
LAST-MODIFIED:20251011T012908Z
UID:4780-1750500000-1750507200@haldimandphotographyclub.com
SUMMARY:St. Albans Church is an Architectural Treasure
DESCRIPTION:St. Albans Anglican Church is a quaint stone church located in the heart of Rockton\, Ontario.  It was built in 1869. Originally\, services were held in this building twice on Sundays and by 1949 were only held monthly. Services stopped in 1950. Since then\, it is only used for occasional concerts\, weddings\, funerals and similar celebrations. \nThis church has 3 stained glass windows featuring faith\, hope\, and charity.  We are hoping to have a model in a vintage wedding dress and veil included in this photo session.  (Keep in mind that she is NOT a professional model and will need some direction.) \nThere are NO WASHROOMS.  I suggest you go to the Tim Hortons at Peter’s Corners before you come into Rockton. \nThe church has a cemetery which has some interesting tombstones for those who like to shoot graveyard and creepy crawly photos. \nThis event is weather permitting. \nFor those interested in having lunch\, the Cookhouse Bistro is an excellent restaurant.  It is very small\, so if you are planning to go there after the shoot\, please make your own reservations.  Their phone number is 519-647-2012 (787 Old Highway 8). \nCost: $15 per person. Payment is made through e-Transfer. please use the following address treasurer@haldimandphotographyclub.com add  St. Albans to comment/note section \n[rtec-registration-form]
URL:https://haldimandphotographyclub.com/event/st-albans-church-is-an-architectural-treasure/
LOCATION:McLean’s Auto Wreckers\, 12584\, Fourth Line Nassagaweya\,\, Rockwood\, ON\, N0B 2K0\, Canada
CATEGORIES:Photographic Outing
END:VEVENT
END:VCALENDAR