BEGIN:VCALENDAR
VERSION:2.0
PRODID:-//Haldimand Photography Club - ECPv6.15.20//NONSGML v1.0//EN
CALSCALE:GREGORIAN
METHOD:PUBLISH
X-ORIGINAL-URL:https://haldimandphotographyclub.com
X-WR-CALDESC:Events for Haldimand Photography Club
REFRESH-INTERVAL;VALUE=DURATION:PT1H
X-Robots-Tag:noindex
X-PUBLISHED-TTL:PT1H
BEGIN:VTIMEZONE
TZID:America/Toronto
BEGIN:DAYLIGHT
TZOFFSETFROM:-0500
TZOFFSETTO:-0400
TZNAME:EDT
DTSTART:20240310T070000
END:DAYLIGHT
BEGIN:STANDARD
TZOFFSETFROM:-0400
TZOFFSETTO:-0500
TZNAME:EST
DTSTART:20241103T060000
END:STANDARD
BEGIN:DAYLIGHT
TZOFFSETFROM:-0500
TZOFFSETTO:-0400
TZNAME:EDT
DTSTART:20250309T070000
END:DAYLIGHT
BEGIN:STANDARD
TZOFFSETFROM:-0400
TZOFFSETTO:-0500
TZNAME:EST
DTSTART:20251102T060000
END:STANDARD
BEGIN:DAYLIGHT
TZOFFSETFROM:-0500
TZOFFSETTO:-0400
TZNAME:EDT
DTSTART:20260308T070000
END:DAYLIGHT
BEGIN:STANDARD
TZOFFSETFROM:-0400
TZOFFSETTO:-0500
TZNAME:EST
DTSTART:20261101T060000
END:STANDARD
END:VTIMEZONE
BEGIN:VEVENT
DTSTART;TZID=America/Toronto:20250208T100000
DTEND;TZID=America/Toronto:20250208T120000
DTSTAMP:20260422T184202
CREATED:20250117T134152Z
LAST-MODIFIED:20250408T124949Z
UID:3663-1739008800-1739016000@haldimandphotographyclub.com
SUMMARY:Photographing Clydesdales in the Snow
DESCRIPTION:  \n\nNEW DATE \nThis event has been rescheduled to Saturday February 8th\, from 10 am to noon.  Everything else remains the same. \n\nIf you registered and paid for the January date\, no need to re-register.\nIf you cannot make this date and registered for the 18th\, please let me know.\nIf you want to join us at the new date\, please register.\nThank you Terri\n\n  \nTake some beautiful photos of Clydesdale and Gypsy horses in the beautiful farm setting just outside Lynden on the second concession.  Carpooling can be arranged amongst members. Tips for success\, keep your batteries warm and bring a long lens to capture them in the fields.  Dress according to the weather and be ready to have some fun with these gentle giants.  Please note there is no public washroom at the venue. \nPlease post your photos after this photo shoot so we can share them with the owners. You can find the link on the ‘Submit Your Images’ page of the website. \nCost for this shoot is $10.00 Payment is made through e-Transfer. please use the following address treasurer@haldimandphotographyclub.com add Clydesales in the Snow to comment/note section \n[rtec-registration-form]
URL:https://haldimandphotographyclub.com/event/photographing-clydesdales-in-the-snow-2/
LOCATION:BreeLee Clydesdales\, 2016 Concession 2 Road\, West\, Hamilton\, Ontario\, L0R 2B0\, Canada
CATEGORIES:Photographic Outing
ATTACH;FMTTYPE=image/jpeg:https://haldimandphotographyclub.com/wp-content/uploads/2024/12/DSC_0619-scaled.jpg
ORGANIZER;CN="Terri Mand":MAILTO:events@haldimandphotographyclub.com
END:VEVENT
END:VCALENDAR